BEGIN:VCALENDAR
VERSION:2.0
PRODID:-//Plone.org//NONSGML plone.app.event//EN
X-WR-TIMEZONE:Europe/Berlin
BEGIN:VEVENT
SUMMARY:Jazz&: András Dés Quartet
DTSTART;TZID=Europe/Berlin:20260326T203000
DTSTAMP:20260421T063028Z
UID:4323b2b8a544491b97eb4486be91d3e6@zmi.spielboden.at
CREATED:20260119T084256Z
LAST-MODIFIED:20260326T120148Z
URL:https://zmi.spielboden.at/Plone/veranstaltungen/jazz-andras-des-quarte
 t
END:VEVENT
BEGIN:VTIMEZONE
TZID:Europe/Berlin
X-LIC-LOCATION:Europe/Berlin
BEGIN:STANDARD
DTSTART:20251026T020000
TZNAME:CET
TZOFFSETFROM:+0200
TZOFFSETTO:+0100
END:STANDARD
END:VTIMEZONE
END:VCALENDAR
