BEGIN:VCALENDAR
VERSION:2.0
PRODID:-//Plone.org//NONSGML plone.app.event//EN
X-WR-TIMEZONE:Europe/Berlin
BEGIN:VEVENT
SUMMARY:tanz ist Festival: 势 SHI: Schwung\, Potenzial\, Fluss
DTSTART;TZID=Europe/Berlin:20260613T130000
DTEND;TZID=Europe/Berlin:20260614T150000
DTSTAMP:20260419T145931Z
UID:57b4b33f922a4de4be21dc445ea55a98@zmi.spielboden.at
CREATED:20260219T133256Z
DESCRIPTION:Workshop mit Naishi Wang (CAN/CHN) in Kooperation mit netzwerk
 Tanz Vorarlberg.
LAST-MODIFIED:20260224T100459Z
URL:https://zmi.spielboden.at/Plone/veranstaltungen/2026/juni/tanz-ist-fes
 tival-shi-shi-schwung-potenzial-fluss
END:VEVENT
BEGIN:VTIMEZONE
TZID:Europe/Berlin
X-LIC-LOCATION:Europe/Berlin
BEGIN:DAYLIGHT
DTSTART:20260329T030000
TZNAME:CEST
TZOFFSETFROM:+0100
TZOFFSETTO:+0200
END:DAYLIGHT
END:VTIMEZONE
END:VCALENDAR
