BEGIN:VCALENDAR
VERSION:2.0
PRODID:-//Plone.org//NONSGML plone.app.event//EN
X-WR-TIMEZONE:Europe/Berlin
BEGIN:VEVENT
SUMMARY:tanz ist Festival: Liquid Loft < > PHACE (AT) – Coal Mine Birds
DTSTART;TZID=Europe/Berlin:20260612T203000
DTSTAMP:20260420T093740Z
UID:a014d6fcf817472b9b54446edd7339a0@zmi.spielboden.at
CREATED:20260219T123958Z
DESCRIPTION:Wenn ihr Lied verstummte\, bestand Lebensgefahr.
LAST-MODIFIED:20260329T095033Z
URL:https://zmi.spielboden.at/Plone/veranstaltungen/2026/juni/tanz-ist-fes
 tival-liquid-loft-phace-at-coal-mine-birds
END:VEVENT
BEGIN:VTIMEZONE
TZID:Europe/Berlin
X-LIC-LOCATION:Europe/Berlin
BEGIN:DAYLIGHT
DTSTART:20260329T030000
TZNAME:CEST
TZOFFSETFROM:+0100
TZOFFSETTO:+0200
END:DAYLIGHT
END:VTIMEZONE
END:VCALENDAR
