BEGIN:VCALENDAR
VERSION:2.0
PRODID:-//Plone.org//NONSGML plone.app.event//EN
X-WR-TIMEZONE:Europe/Berlin
BEGIN:VEVENT
SUMMARY:„Crossing Europe“- Filme in Dornbirn: Die noch unbekannten Tag
 e
DTSTART;TZID=Europe/Berlin:20260605T193000
DTSTAMP:20260422T170810Z
UID:05b58741f421444291962c1bccbce3ad@zmi.spielboden.at
CREATED:20260422T113017Z
LAST-MODIFIED:20260422T113106Z
URL:https://zmi.spielboden.at/Plone/veranstaltungen/2026/juni/crossing-eur
 ope-filme-in-dornbirn-die-noch-unbekannten-tage
END:VEVENT
BEGIN:VTIMEZONE
TZID:Europe/Berlin
X-LIC-LOCATION:Europe/Berlin
BEGIN:DAYLIGHT
DTSTART:20260329T030000
TZNAME:CEST
TZOFFSETFROM:+0100
TZOFFSETTO:+0200
END:DAYLIGHT
END:VTIMEZONE
END:VCALENDAR
