BEGIN:VCALENDAR
VERSION:2.0
PRODID:-//Plone.org//NONSGML plone.app.event//EN
X-WR-TIMEZONE:Europe/Berlin
BEGIN:VEVENT
SUMMARY:Alpha
DTSTART;TZID=Europe/Berlin:20260616T193000
DTSTAMP:20260422T200501Z
UID:a30c499dcdd349868053e66242d594b9@zmi.spielboden.at
CREATED:20260422T110943Z
LAST-MODIFIED:20260422T111235Z
URL:https://zmi.spielboden.at/Plone/veranstaltungen/2026/juni/alpha
END:VEVENT
BEGIN:VTIMEZONE
TZID:Europe/Berlin
X-LIC-LOCATION:Europe/Berlin
BEGIN:DAYLIGHT
DTSTART:20260329T030000
TZNAME:CEST
TZOFFSETFROM:+0100
TZOFFSETTO:+0200
END:DAYLIGHT
END:VTIMEZONE
END:VCALENDAR
