BEGIN:VCALENDAR
VERSION:2.0
PRODID:-//Plone.org//NONSGML plone.app.event//EN
X-WR-TIMEZONE:Europe/Berlin
BEGIN:VEVENT
SUMMARY:Mein neues altes Ich – Eine Reise in das Mysterium der Menopause
DTSTART;TZID=Europe/Berlin:20260508T193000
DTSTAMP:20260421T134618Z
UID:9f2f81dec2894e4d91f9f52aabf84263@zmi.spielboden.at
CREATED:20260217T091249Z
LAST-MODIFIED:20260417T072246Z
URL:https://zmi.spielboden.at/Plone/veranstaltungen/2026/05_mai/mein-neues
 -altes-ich-eine-reise-in-das-mysterium-der-menopause
END:VEVENT
BEGIN:VTIMEZONE
TZID:Europe/Berlin
X-LIC-LOCATION:Europe/Berlin
BEGIN:DAYLIGHT
DTSTART:20260329T030000
TZNAME:CEST
TZOFFSETFROM:+0100
TZOFFSETTO:+0200
END:DAYLIGHT
END:VTIMEZONE
END:VCALENDAR
