BEGIN:VCALENDAR
VERSION:2.0
PRODID:-//Plone.org//NONSGML plone.app.event//EN
X-WR-TIMEZONE:Europe/Berlin
BEGIN:VEVENT
SUMMARY:It’s Never Over\, Jeff Buckley
DTSTART;TZID=Europe/Berlin:20260505T193000
DTSTAMP:20260426T041835Z
UID:4cb132685f304d30997524c8d1fee18f@zmi.spielboden.at
CREATED:20260217T084540Z
LAST-MODIFIED:20260225T211223Z
URL:https://zmi.spielboden.at/Plone/veranstaltungen/2026/05_mai/its-never-
 over-jeff-buckley
END:VEVENT
BEGIN:VTIMEZONE
TZID:Europe/Berlin
X-LIC-LOCATION:Europe/Berlin
BEGIN:DAYLIGHT
DTSTART:20260329T030000
TZNAME:CEST
TZOFFSETFROM:+0100
TZOFFSETTO:+0200
END:DAYLIGHT
END:VTIMEZONE
END:VCALENDAR
