BEGIN:VCALENDAR
VERSION:2.0
PRODID:-//Plone.org//NONSGML plone.app.event//EN
X-WR-TIMEZONE:Europe/Berlin
BEGIN:VEVENT
SUMMARY:Depeche Mode & more Party
DTSTART;TZID=Europe/Berlin:20260502T210000
DTSTAMP:20260421T122159Z
UID:b28f59cb7f56485c937147300c1335e2@zmi.spielboden.at
CREATED:20260320T093514Z
LAST-MODIFIED:20260320T093652Z
URL:https://zmi.spielboden.at/Plone/veranstaltungen/2026/05_mai/depeche-mo
 de-more-party
END:VEVENT
BEGIN:VTIMEZONE
TZID:Europe/Berlin
X-LIC-LOCATION:Europe/Berlin
BEGIN:DAYLIGHT
DTSTART:20260329T030000
TZNAME:CEST
TZOFFSETFROM:+0100
TZOFFSETTO:+0200
END:DAYLIGHT
END:VTIMEZONE
END:VCALENDAR
