BEGIN:VCALENDAR
VERSION:2.0
PRODID:-//Plone.org//NONSGML plone.app.event//EN
X-WR-TIMEZONE:Europe/Berlin
BEGIN:VEVENT
SUMMARY:TANZKANTINE – Das Tanzbarste der letzten Jahrzehnte
DTSTART;TZID=Europe/Berlin:20260403T210000
DTSTAMP:20260425T212203Z
UID:4f41094b8f6f435383faaf5fea90fff3@zmi.spielboden.at
CREATED:20260217T113057Z
LAST-MODIFIED:20260403T133037Z
URL:https://zmi.spielboden.at/Plone/veranstaltungen/2026/04_april/tanzkant
 ine-das-tanzbarste-der-letzten-jahrzente
END:VEVENT
BEGIN:VTIMEZONE
TZID:Europe/Berlin
X-LIC-LOCATION:Europe/Berlin
BEGIN:DAYLIGHT
DTSTART:20260329T030000
TZNAME:CEST
TZOFFSETFROM:+0100
TZOFFSETTO:+0200
END:DAYLIGHT
END:VTIMEZONE
END:VCALENDAR
