BEGIN:VCALENDAR
VERSION:2.0
PRODID:-//Plone.org//NONSGML plone.app.event//EN
X-WR-TIMEZONE:Europe/Berlin
BEGIN:VEVENT
SUMMARY:Tagespresse Live
DTSTART;TZID=Europe/Berlin:20260416T200000
DTSTAMP:20260421T120515Z
UID:f35172790f2c4cf1aa72354b4f2c3514@zmi.spielboden.at
CREATED:20260108T132921Z
LAST-MODIFIED:20260416T065323Z
URL:https://zmi.spielboden.at/Plone/veranstaltungen/2026/04_april/tagespre
 sse-live
END:VEVENT
BEGIN:VTIMEZONE
TZID:Europe/Berlin
X-LIC-LOCATION:Europe/Berlin
BEGIN:DAYLIGHT
DTSTART:20260329T030000
TZNAME:CEST
TZOFFSETFROM:+0100
TZOFFSETTO:+0200
END:DAYLIGHT
END:VTIMEZONE
END:VCALENDAR
