BEGIN:VCALENDAR
VERSION:2.0
PRODID:-//Plone.org//NONSGML plone.app.event//EN
X-WR-TIMEZONE:Europe/Berlin
BEGIN:VEVENT
SUMMARY:Tagebuch Slam
DTSTART;TZID=Europe/Berlin:20260404T200000
DTSTAMP:20260425T162324Z
UID:8a2705f611784b0aa8104a17a183ec5d@zmi.spielboden.at
CREATED:20260129T084349Z
LAST-MODIFIED:20260404T112454Z
URL:https://zmi.spielboden.at/Plone/veranstaltungen/2026/04_april/tagebuch
 -slam
END:VEVENT
BEGIN:VTIMEZONE
TZID:Europe/Berlin
X-LIC-LOCATION:Europe/Berlin
BEGIN:DAYLIGHT
DTSTART:20260329T030000
TZNAME:CEST
TZOFFSETFROM:+0100
TZOFFSETTO:+0200
END:DAYLIGHT
END:VTIMEZONE
END:VCALENDAR
