BEGIN:VCALENDAR
VERSION:2.0
PRODID:-//Plone.org//NONSGML plone.app.event//EN
X-WR-TIMEZONE:Europe/Berlin
BEGIN:VEVENT
SUMMARY:STOFF - ein Spitzengeschäft
DTSTART;TZID=Europe/Berlin:20260403T193000
DTSTAMP:20260421T201211Z
UID:49cf2b40be534b07aa81a6160be3f1db@zmi.spielboden.at
CREATED:20260212T104602Z
LAST-MODIFIED:20260331T080659Z
URL:https://zmi.spielboden.at/Plone/veranstaltungen/2026/04_april/stoff-ei
 n-spitzengeschaeft
END:VEVENT
BEGIN:VTIMEZONE
TZID:Europe/Berlin
X-LIC-LOCATION:Europe/Berlin
BEGIN:DAYLIGHT
DTSTART:20260329T030000
TZNAME:CEST
TZOFFSETFROM:+0100
TZOFFSETTO:+0200
END:DAYLIGHT
END:VTIMEZONE
END:VCALENDAR
