BEGIN:VCALENDAR
VERSION:2.0
PRODID:-//Plone.org//NONSGML plone.app.event//EN
X-WR-TIMEZONE:Europe/Berlin
BEGIN:VEVENT
SUMMARY:Jazz&: Spaemann & Bakanic
DTSTART;TZID=Europe/Berlin:20260430T203000
DTSTAMP:20260422T022156Z
UID:450ea05fc9914f54a84497d2fd192e7e@zmi.spielboden.at
CREATED:20260115T091147Z
LAST-MODIFIED:20260416T192720Z
URL:https://zmi.spielboden.at/Plone/veranstaltungen/2026/04_april/jazz-spa
 emann-bakanic
END:VEVENT
BEGIN:VTIMEZONE
TZID:Europe/Berlin
X-LIC-LOCATION:Europe/Berlin
BEGIN:DAYLIGHT
DTSTART:20260329T030000
TZNAME:CEST
TZOFFSETFROM:+0100
TZOFFSETTO:+0200
END:DAYLIGHT
END:VTIMEZONE
END:VCALENDAR
