BEGIN:VCALENDAR
VERSION:2.0
PRODID:-//Plone.org//NONSGML plone.app.event//EN
X-WR-TIMEZONE:Europe/Berlin
BEGIN:VEVENT
SUMMARY:Workshop: Weltklimaspiel
DTSTART;TZID=Europe/Berlin:20260311T081500
DTEND;TZID=Europe/Berlin:20260311T153000
DTSTAMP:20260421T144047Z
UID:14a1b854283c47e888da6325625fb9d8@zmi.spielboden.at
CREATED:20260124T123724Z
LAST-MODIFIED:20260124T123753Z
URL:https://zmi.spielboden.at/Plone/veranstaltungen/2026/03_maerz/workshop
 -weltklimaspiel-1
END:VEVENT
BEGIN:VTIMEZONE
TZID:Europe/Berlin
X-LIC-LOCATION:Europe/Berlin
BEGIN:STANDARD
DTSTART:20251026T020000
TZNAME:CET
TZOFFSETFROM:+0200
TZOFFSETTO:+0100
END:STANDARD
END:VTIMEZONE
END:VCALENDAR
