BEGIN:VCALENDAR
VERSION:2.0
PRODID:-//Plone.org//NONSGML plone.app.event//EN
X-WR-TIMEZONE:Europe/Berlin
BEGIN:VEVENT
SUMMARY:Workshop mit Ida Kelarová: Open your Heart\, open your Voice and 
 sing
DTSTART;TZID=Europe/Berlin:20260313T150000
DTEND;TZID=Europe/Berlin:20260315T143000
DTSTAMP:20260421T012738Z
UID:18e2138b0cd447238e1de8e528b648c5@zmi.spielboden.at
CREATED:20260124T134330Z
LAST-MODIFIED:20260305T143051Z
URL:https://zmi.spielboden.at/Plone/veranstaltungen/2026/03_maerz/workshop
 -mit-ida-kelarova-open-your-heart-open-your-voice-and-sing
END:VEVENT
BEGIN:VTIMEZONE
TZID:Europe/Berlin
X-LIC-LOCATION:Europe/Berlin
BEGIN:STANDARD
DTSTART:20251026T020000
TZNAME:CET
TZOFFSETFROM:+0200
TZOFFSETTO:+0100
END:STANDARD
END:VTIMEZONE
END:VCALENDAR
