BEGIN:VCALENDAR
VERSION:2.0
PRODID:-//Plone.org//NONSGML plone.app.event//EN
X-WR-TIMEZONE:Europe/Berlin
BEGIN:VEVENT
SUMMARY:Women's DayDance mit DJanes CarMa
DTSTART;TZID=Europe/Berlin:20260308T160000
DTEND;TZID=Europe/Berlin:20260308T200000
DTSTAMP:20260421T055017Z
UID:acd9389c80cc41ecbe48866cfbfc05e7@zmi.spielboden.at
CREATED:20260122T140832Z
LAST-MODIFIED:20260122T141051Z
URL:https://zmi.spielboden.at/Plone/veranstaltungen/2026/03_maerz/womens-d
 aydance-mit-djanes-carma
END:VEVENT
BEGIN:VTIMEZONE
TZID:Europe/Berlin
X-LIC-LOCATION:Europe/Berlin
BEGIN:STANDARD
DTSTART:20251026T020000
TZNAME:CET
TZOFFSETFROM:+0200
TZOFFSETTO:+0100
END:STANDARD
END:VTIMEZONE
END:VCALENDAR
