BEGIN:VCALENDAR
VERSION:2.0
PRODID:-//Plone.org//NONSGML plone.app.event//EN
X-WR-TIMEZONE:Europe/Berlin
BEGIN:VEVENT
SUMMARY:Workshop: Weltklimaspiel
DTSTART;TZID=Europe/Berlin:20260309T081500
DTEND;TZID=Europe/Berlin:20260309T153000
DTSTAMP:20260421T204852Z
UID:5e6463db2812493fa3945cf7d02ba99f@zmi.spielboden.at
CREATED:20260122T150050Z
LAST-MODIFIED:20260124T123130Z
URL:https://zmi.spielboden.at/Plone/veranstaltungen/2026/03_maerz/weltklim
 aspiel
END:VEVENT
BEGIN:VTIMEZONE
TZID:Europe/Berlin
X-LIC-LOCATION:Europe/Berlin
BEGIN:STANDARD
DTSTART:20251026T020000
TZNAME:CET
TZOFFSETFROM:+0200
TZOFFSETTO:+0100
END:STANDARD
END:VTIMEZONE
END:VCALENDAR
