BEGIN:VCALENDAR
VERSION:2.0
PRODID:-//Plone.org//NONSGML plone.app.event//EN
X-WR-TIMEZONE:Europe/Berlin
BEGIN:VEVENT
SUMMARY:VISION Bāzār - Kleidertausch\, Marktstände\, Get-Together
DTSTART;TZID=Europe/Berlin:20260307T140000
DTEND;TZID=Europe/Berlin:20260307T180000
DTSTAMP:20260421T144107Z
UID:2a3e4940233b411bb37ebc4edb5db043@zmi.spielboden.at
CREATED:20260124T124347Z
LAST-MODIFIED:20260124T131233Z
URL:https://zmi.spielboden.at/Plone/veranstaltungen/2026/03_maerz/vision-b
 azar-kleidertausch-marktstaende-get-together
END:VEVENT
BEGIN:VTIMEZONE
TZID:Europe/Berlin
X-LIC-LOCATION:Europe/Berlin
BEGIN:STANDARD
DTSTART:20251026T020000
TZNAME:CET
TZOFFSETFROM:+0200
TZOFFSETTO:+0100
END:STANDARD
END:VTIMEZONE
END:VCALENDAR
