BEGIN:VCALENDAR
VERSION:2.0
PRODID:-//Plone.org//NONSGML plone.app.event//EN
X-WR-TIMEZONE:Europe/Berlin
BEGIN:VEVENT
SUMMARY:The Souffleur
DTSTART;TZID=Europe/Berlin:20260305T193000
DTSTAMP:20260420T234408Z
UID:8a55e80b413a493d8d98f98f9bb658f3@zmi.spielboden.at
CREATED:20260212T113407Z
LAST-MODIFIED:20260305T081855Z
URL:https://zmi.spielboden.at/Plone/veranstaltungen/2026/03_maerz/the-souf
 fleur
END:VEVENT
BEGIN:VTIMEZONE
TZID:Europe/Berlin
X-LIC-LOCATION:Europe/Berlin
BEGIN:STANDARD
DTSTART:20251026T020000
TZNAME:CET
TZOFFSETFROM:+0200
TZOFFSETTO:+0100
END:STANDARD
END:VTIMEZONE
END:VCALENDAR
