BEGIN:VCALENDAR
VERSION:2.0
PRODID:-//Plone.org//NONSGML plone.app.event//EN
X-WR-TIMEZONE:Europe/Berlin
BEGIN:VEVENT
SUMMARY:The Housemaid
DTSTART;TZID=Europe/Berlin:20260317T193000
DTSTAMP:20260421T011500Z
UID:71eac54640214a26a72550b12e87b679@zmi.spielboden.at
CREATED:20260128T134308Z
LAST-MODIFIED:20260314T150507Z
URL:https://zmi.spielboden.at/Plone/veranstaltungen/2026/03_maerz/the-hous
 emaid
END:VEVENT
BEGIN:VTIMEZONE
TZID:Europe/Berlin
X-LIC-LOCATION:Europe/Berlin
BEGIN:STANDARD
DTSTART:20251026T020000
TZNAME:CET
TZOFFSETFROM:+0200
TZOFFSETTO:+0100
END:STANDARD
END:VTIMEZONE
END:VCALENDAR
