BEGIN:VCALENDAR
VERSION:2.0
PRODID:-//Plone.org//NONSGML plone.app.event//EN
X-WR-TIMEZONE:Europe/Berlin
BEGIN:VEVENT
SUMMARY:STOFF - ein Spitzengeschäft
DTSTART;TZID=Europe/Berlin:20260321T193000
DTSTAMP:20260420T222630Z
UID:366074e1b1114b178724b3f2a83d6069@zmi.spielboden.at
CREATED:20260212T101233Z
LAST-MODIFIED:20260321T101314Z
URL:https://zmi.spielboden.at/Plone/veranstaltungen/2026/03_maerz/stoff-ei
 n-spitzengeschaeft-3
END:VEVENT
BEGIN:VTIMEZONE
TZID:Europe/Berlin
X-LIC-LOCATION:Europe/Berlin
BEGIN:STANDARD
DTSTART:20251026T020000
TZNAME:CET
TZOFFSETFROM:+0200
TZOFFSETTO:+0100
END:STANDARD
END:VTIMEZONE
END:VCALENDAR
