BEGIN:VCALENDAR
VERSION:2.0
PRODID:-//Plone.org//NONSGML plone.app.event//EN
X-WR-TIMEZONE:Europe/Berlin
BEGIN:VEVENT
SUMMARY:STOFF - ein Spitzengeschäft
DTSTART;TZID=Europe/Berlin:20260327T193000
DTSTAMP:20260421T000331Z
UID:d20fdf73f899440abfcff2e4cd615447@zmi.spielboden.at
CREATED:20260205T181356Z
LAST-MODIFIED:20260327T103240Z
URL:https://zmi.spielboden.at/Plone/veranstaltungen/2026/03_maerz/stoff-ei
 n-spitzengeschaeft-2
END:VEVENT
BEGIN:VTIMEZONE
TZID:Europe/Berlin
X-LIC-LOCATION:Europe/Berlin
BEGIN:STANDARD
DTSTART:20251026T020000
TZNAME:CET
TZOFFSETFROM:+0200
TZOFFSETTO:+0100
END:STANDARD
END:VTIMEZONE
END:VCALENDAR
