BEGIN:VCALENDAR
VERSION:2.0
PRODID:-//Plone.org//NONSGML plone.app.event//EN
X-WR-TIMEZONE:Europe/Berlin
BEGIN:VEVENT
SUMMARY:STOFF - ein Spitzengeschäft
DTSTART;TZID=Europe/Berlin:20260318T193000
DTSTAMP:20260421T000327Z
UID:f95f12fe2ba5480685d6a8d8bd83b8b3@zmi.spielboden.at
CREATED:20260205T181131Z
LAST-MODIFIED:20260318T162929Z
URL:https://zmi.spielboden.at/Plone/veranstaltungen/2026/03_maerz/stoff-ei
 n-spitzengeschaeft-1
END:VEVENT
BEGIN:VTIMEZONE
TZID:Europe/Berlin
X-LIC-LOCATION:Europe/Berlin
BEGIN:STANDARD
DTSTART:20251026T020000
TZNAME:CET
TZOFFSETFROM:+0200
TZOFFSETTO:+0100
END:STANDARD
END:VTIMEZONE
END:VCALENDAR
