BEGIN:VCALENDAR
VERSION:2.0
PRODID:-//Plone.org//NONSGML plone.app.event//EN
X-WR-TIMEZONE:Europe/Berlin
BEGIN:VEVENT
SUMMARY:PLANET C: No Other Choice + Vegan Food-Special
DTSTART;TZID=Europe/Berlin:20260326T193000
DTSTAMP:20260421T000529Z
UID:4d59ae27f58e4a84b55d24f64f73d635@zmi.spielboden.at
CREATED:20260204T152956Z
LAST-MODIFIED:20260325T153747Z
URL:https://zmi.spielboden.at/Plone/veranstaltungen/2026/03_maerz/planet-c
 -no-other-choice
END:VEVENT
BEGIN:VTIMEZONE
TZID:Europe/Berlin
X-LIC-LOCATION:Europe/Berlin
BEGIN:STANDARD
DTSTART:20251026T020000
TZNAME:CET
TZOFFSETFROM:+0200
TZOFFSETTO:+0100
END:STANDARD
END:VTIMEZONE
END:VCALENDAR
