BEGIN:VCALENDAR
VERSION:2.0
PRODID:-//Plone.org//NONSGML plone.app.event//EN
X-WR-TIMEZONE:Europe/Berlin
BEGIN:VEVENT
SUMMARY:LUX-Publikumspreis für europäische Filme zeigt: It Was Just an A
 ccident
DTSTART;TZID=Europe/Berlin:20260331T193000
DTSTAMP:20260420T234812Z
UID:cf9daf6abc1341cfb8b1f40a784bfb0f@zmi.spielboden.at
CREATED:20260210T151439Z
LAST-MODIFIED:20260331T114449Z
URL:https://zmi.spielboden.at/Plone/veranstaltungen/2026/03_maerz/lux-publ
 ikumspreis-fuer-europaeische-filme-zeigt-it-was-just-an-accident
END:VEVENT
BEGIN:VTIMEZONE
TZID:Europe/Berlin
X-LIC-LOCATION:Europe/Berlin
BEGIN:DAYLIGHT
DTSTART:20260329T030000
TZNAME:CEST
TZOFFSETFROM:+0100
TZOFFSETTO:+0200
END:DAYLIGHT
END:VTIMEZONE
END:VCALENDAR
