BEGIN:VCALENDAR
VERSION:2.0
PRODID:-//Plone.org//NONSGML plone.app.event//EN
X-WR-TIMEZONE:Europe/Berlin
BEGIN:VEVENT
SUMMARY:LUX-Publikumspreis für europäische Filme zeigt: Christy (mit Fil
 mgespräch)
DTSTART;TZID=Europe/Berlin:20260324T193000
DTSTAMP:20260420T234818Z
UID:f20343c978e94cb8a8b99c212d106ba8@zmi.spielboden.at
CREATED:20260210T152445Z
LAST-MODIFIED:20260324T130142Z
URL:https://zmi.spielboden.at/Plone/veranstaltungen/2026/03_maerz/lux-publ
 ikumspreis-fuer-europaeische-filme-zeigt-christy-mit-filmgespraech
END:VEVENT
BEGIN:VTIMEZONE
TZID:Europe/Berlin
X-LIC-LOCATION:Europe/Berlin
BEGIN:STANDARD
DTSTART:20251026T020000
TZNAME:CET
TZOFFSETFROM:+0200
TZOFFSETTO:+0100
END:STANDARD
END:VTIMEZONE
END:VCALENDAR
