BEGIN:VCALENDAR
VERSION:2.0
PRODID:-//Plone.org//NONSGML plone.app.event//EN
X-WR-TIMEZONE:Europe/Berlin
BEGIN:VEVENT
SUMMARY:jung&weise-Dialog + Zero Waste Buffet
DTSTART;TZID=Europe/Berlin:20260312T170000
DTSTAMP:20260421T041809Z
UID:8d75a9c7acc74428bce8db82d5d607ed@zmi.spielboden.at
CREATED:20260122T142914Z
LAST-MODIFIED:20260209T102656Z
URL:https://zmi.spielboden.at/Plone/veranstaltungen/2026/03_maerz/jugendta
 g-jung-weise-dialog-zero-waste-buffet
END:VEVENT
BEGIN:VTIMEZONE
TZID:Europe/Berlin
X-LIC-LOCATION:Europe/Berlin
BEGIN:STANDARD
DTSTART:20251026T020000
TZNAME:CET
TZOFFSETFROM:+0200
TZOFFSETTO:+0100
END:STANDARD
END:VTIMEZONE
END:VCALENDAR
