BEGIN:VCALENDAR
VERSION:2.0
PRODID:-//Plone.org//NONSGML plone.app.event//EN
X-WR-TIMEZONE:Europe/Berlin
BEGIN:VEVENT
SUMMARY:„Crossing Europe“- Filme in Dornbirn: Loveable
DTSTART;TZID=Europe/Berlin:20260303T193000
DTSTAMP:20260422T121452Z
UID:27784cf4fcec4aa7bd776a0747595ab2@zmi.spielboden.at
CREATED:20260212T104223Z
LAST-MODIFIED:20260227T083031Z
URL:https://zmi.spielboden.at/Plone/veranstaltungen/2026/03_maerz/crossing
 -europe-filme-in-dornbirn-loveable
END:VEVENT
BEGIN:VTIMEZONE
TZID:Europe/Berlin
X-LIC-LOCATION:Europe/Berlin
BEGIN:STANDARD
DTSTART:20251026T020000
TZNAME:CET
TZOFFSETFROM:+0200
TZOFFSETTO:+0100
END:STANDARD
END:VTIMEZONE
END:VCALENDAR
