BEGIN:VCALENDAR
VERSION:2.0
PRODID:-//Plone.org//NONSGML plone.app.event//EN
X-WR-TIMEZONE:Europe/Berlin
BEGIN:VEVENT
SUMMARY:„Crossing Europe“- Filme in Dornbirn: Loveable
DTSTART;TZID=Europe/Berlin:20260320T193000
DTSTAMP:20260420T224010Z
UID:6c03d4dec8cc4a37b68257b1c67a63e1@zmi.spielboden.at
CREATED:20260212T104856Z
LAST-MODIFIED:20260212T104917Z
URL:https://zmi.spielboden.at/Plone/veranstaltungen/2026/03_maerz/crossing
 -europe-filme-in-dornbirn-loveable-1
END:VEVENT
BEGIN:VTIMEZONE
TZID:Europe/Berlin
X-LIC-LOCATION:Europe/Berlin
BEGIN:STANDARD
DTSTART:20251026T020000
TZNAME:CET
TZOFFSETFROM:+0200
TZOFFSETTO:+0100
END:STANDARD
END:VTIMEZONE
END:VCALENDAR
