BEGIN:VCALENDAR
VERSION:2.0
PRODID:-//Plone.org//NONSGML plone.app.event//EN
X-WR-TIMEZONE:Europe/Berlin
BEGIN:VEVENT
SUMMARY:Ausstellungseröffnung: Libkos - Was bleibt?
DTSTART;TZID=Europe/Berlin:20260307T140000
DTSTAMP:20260421T013314Z
UID:dcedf9e70315425c9d54930071e39887@zmi.spielboden.at
CREATED:20260124T132259Z
LAST-MODIFIED:20260124T132347Z
URL:https://zmi.spielboden.at/Plone/veranstaltungen/2026/03_maerz/ausstell
 ungseroeffnung-libkos-was-bleibt
END:VEVENT
BEGIN:VTIMEZONE
TZID:Europe/Berlin
X-LIC-LOCATION:Europe/Berlin
BEGIN:STANDARD
DTSTART:20251026T020000
TZNAME:CET
TZOFFSETFROM:+0200
TZOFFSETTO:+0100
END:STANDARD
END:VTIMEZONE
END:VCALENDAR
