BEGIN:VCALENDAR
VERSION:2.0
PRODID:-//Plone.org//NONSGML plone.app.event//EN
X-WR-TIMEZONE:Europe/Berlin
BEGIN:VEVENT
SUMMARY:Ausstellungseröffnung: ARTquer goes Movie
DTSTART;TZID=Europe/Berlin:20260307T140000
DTSTAMP:20260421T013632Z
UID:946ff0fdc316417a9cbc6c6db8f23bf2@zmi.spielboden.at
CREATED:20260124T131807Z
LAST-MODIFIED:20260124T131933Z
URL:https://zmi.spielboden.at/Plone/veranstaltungen/2026/03_maerz/ausstell
 ungseroeffnung-artquer-goes-movie
END:VEVENT
BEGIN:VTIMEZONE
TZID:Europe/Berlin
X-LIC-LOCATION:Europe/Berlin
BEGIN:STANDARD
DTSTART:20251026T020000
TZNAME:CET
TZOFFSETFROM:+0200
TZOFFSETTO:+0100
END:STANDARD
END:VTIMEZONE
END:VCALENDAR
