BEGIN:VCALENDAR
VERSION:2.0
PRODID:-//Plone.org//NONSGML plone.app.event//EN
X-WR-TIMEZONE:Europe/Berlin
BEGIN:VEVENT
SUMMARY:Musikalischer Abschluss des Workshops Ida Kelarová - offen für a
 lle Interessierten
DTSTART;TZID=Europe/Berlin:20260315T143000
DTSTAMP:20260421T012204Z
UID:8da3eeca9d874777b94c9e7b8beeb10f@zmi.spielboden.at
CREATED:20260124T132908Z
LAST-MODIFIED:20260314T100233Z
URL:https://zmi.spielboden.at/Plone/veranstaltungen/2026/03_maerz/abschlus
 skonzert-workshop-ida-kelarova
END:VEVENT
BEGIN:VTIMEZONE
TZID:Europe/Berlin
X-LIC-LOCATION:Europe/Berlin
BEGIN:STANDARD
DTSTART:20251026T020000
TZNAME:CET
TZOFFSETFROM:+0200
TZOFFSETTO:+0100
END:STANDARD
END:VTIMEZONE
END:VCALENDAR
