BEGIN:VCALENDAR
VERSION:2.0
PRODID:-//Plone.org//NONSGML plone.app.event//EN
X-WR-TIMEZONE:Europe/Berlin
BEGIN:VEVENT
SUMMARY:HUNGER.MACHT.PROFITE.14 zeigt "The Pickers"
DTSTART;TZID=Europe/Berlin:20251125T193000
DTSTAMP:20260422T064637Z
UID:1d25159a7d85484fa27c5df12dff0432@zmi.spielboden.at
CREATED:20251009T105754Z
LAST-MODIFIED:20251124T134821Z
URL:https://zmi.spielboden.at/Plone/veranstaltungen/2025/11_november/hunge
 r-macht-profite-14-zeigt-the-pickers
END:VEVENT
BEGIN:VTIMEZONE
TZID:Europe/Berlin
X-LIC-LOCATION:Europe/Berlin
BEGIN:STANDARD
DTSTART:20251026T020000
TZNAME:CET
TZOFFSETFROM:+0200
TZOFFSETTO:+0100
END:STANDARD
END:VTIMEZONE
END:VCALENDAR
