BEGIN:VCALENDAR
VERSION:2.0
PRODID:-//Plone.org//NONSGML plone.app.event//EN
X-WR-TIMEZONE:Europe/Berlin
BEGIN:VEVENT
SUMMARY:Company Marionetes Encendres\, Aran Rey – Red Firefly
DTSTART;TZID=Europe/Berlin:20251011T150000
DTSTAMP:20260422T113501Z
UID:f5f12d1ac0ff416fbe214b8548a73007@zmi.spielboden.at
CREATED:20250724T084143Z
DESCRIPTION:Marionettentheater ab 3 Jahren
LAST-MODIFIED:20251010T120001Z
URL:https://zmi.spielboden.at/Plone/veranstaltungen/2025/10_oktober/compan
 y-marionetes-encendres-aran-rey-red-firefly
END:VEVENT
BEGIN:VTIMEZONE
TZID:Europe/Berlin
X-LIC-LOCATION:Europe/Berlin
BEGIN:DAYLIGHT
DTSTART:20250330T030000
TZNAME:CEST
TZOFFSETFROM:+0100
TZOFFSETTO:+0200
END:DAYLIGHT
END:VTIMEZONE
END:VCALENDAR
