BEGIN:VCALENDAR
VERSION:2.0
PRODID:-//Plone.org//NONSGML plone.app.event//EN
X-WR-TIMEZONE:Europe/Berlin
BEGIN:VEVENT
SUMMARY:Einfach Machen! She-Punks von 1977 bis heute
DTSTART;TZID=Europe/Berlin:20250916T193000
DTSTAMP:20260422T130905Z
UID:cfdeb80bed864e19b8a6ea2643b41113@zmi.spielboden.at
CREATED:20250723T073020Z
LAST-MODIFIED:20250723T073832Z
URL:https://zmi.spielboden.at/Plone/veranstaltungen/2025/09_september-1/ei
 nfach-machen-she-punks-von-1977-bis-heute
END:VEVENT
BEGIN:VTIMEZONE
TZID:Europe/Berlin
X-LIC-LOCATION:Europe/Berlin
BEGIN:DAYLIGHT
DTSTART:20250330T030000
TZNAME:CEST
TZOFFSETFROM:+0100
TZOFFSETTO:+0200
END:DAYLIGHT
END:VTIMEZONE
END:VCALENDAR
