BEGIN:VCALENDAR
VERSION:2.0
PRODID:-//Plone.org//NONSGML plone.app.event//EN
X-WR-TIMEZONE:Europe/Berlin
BEGIN:VEVENT
SUMMARY:Callas\, Darling
DTSTART;TZID=Europe/Berlin:20250912T193000
DTSTAMP:20260422T130738Z
UID:1df3ddc5de4a4e298cc400bcf8eae889@zmi.spielboden.at
CREATED:20250722T070123Z
LAST-MODIFIED:20250910T060949Z
URL:https://zmi.spielboden.at/Plone/veranstaltungen/2025/09_september-1/ca
 llas-darling
END:VEVENT
BEGIN:VTIMEZONE
TZID:Europe/Berlin
X-LIC-LOCATION:Europe/Berlin
BEGIN:DAYLIGHT
DTSTART:20250330T030000
TZNAME:CEST
TZOFFSETFROM:+0100
TZOFFSETTO:+0200
END:DAYLIGHT
END:VTIMEZONE
END:VCALENDAR
