BEGIN:VCALENDAR
VERSION:2.0
PRODID:-//Plone.org//NONSGML plone.app.event//EN
X-WR-TIMEZONE:Europe/Berlin
BEGIN:VEVENT
SUMMARY:VERWEGEN MUTIG RADIKAL: Feministische Avantgarde im Film
DTSTART;TZID=Europe/Berlin:20250625T193000
DTSTAMP:20260421T104530Z
UID:05c2e885a3ae4d7e837b5db5f0f156e6@zmi.spielboden.at
CREATED:20250513T111100Z
LAST-MODIFIED:20250617T123246Z
URL:https://zmi.spielboden.at/Plone/veranstaltungen/2025/06_juni/verwegen-
 mutig-radikal-feministische-avantgarde-im-film
END:VEVENT
BEGIN:VTIMEZONE
TZID:Europe/Berlin
X-LIC-LOCATION:Europe/Berlin
BEGIN:DAYLIGHT
DTSTART:20250330T030000
TZNAME:CEST
TZOFFSETFROM:+0100
TZOFFSETTO:+0200
END:DAYLIGHT
END:VTIMEZONE
END:VCALENDAR
