BEGIN:VCALENDAR
VERSION:2.0
PRODID:-//Plone.org//NONSGML plone.app.event//EN
X-WR-TIMEZONE:Europe/Berlin
BEGIN:VEVENT
SUMMARY:VERWEGEN MUTIG RADIKAL: Feministische Avantgarde im Film
DTSTART;TZID=Europe/Berlin:20250626T193000
DTSTAMP:20260421T103101Z
UID:bba0189aff4f47b3a24da689696b8883@zmi.spielboden.at
CREATED:20250513T112626Z
LAST-MODIFIED:20250513T112912Z
URL:https://zmi.spielboden.at/Plone/veranstaltungen/2025/06_juni/verwegen-
 mutig-radikal-feministische-avantgarde-im-film-1
END:VEVENT
BEGIN:VTIMEZONE
TZID:Europe/Berlin
X-LIC-LOCATION:Europe/Berlin
BEGIN:DAYLIGHT
DTSTART:20250330T030000
TZNAME:CEST
TZOFFSETFROM:+0100
TZOFFSETTO:+0200
END:DAYLIGHT
END:VTIMEZONE
END:VCALENDAR
