BEGIN:VCALENDAR
VERSION:2.0
PRODID:-//Plone.org//NONSGML plone.app.event//EN
X-WR-TIMEZONE:Europe/Berlin
BEGIN:VEVENT
SUMMARY:Tanzportal #25 - Nachtschwärmer
DTSTART;TZID=Europe/Berlin:20250607T190000
DTSTAMP:20260422T175341Z
UID:2d356cfad88a4d78afa66a51708aeaff@zmi.spielboden.at
CREATED:20250514T093936Z
LAST-MODIFIED:20250603T082741Z
URL:https://zmi.spielboden.at/Plone/veranstaltungen/2025/06_juni/tanzporta
 l-25-nachtschwaermer-1
END:VEVENT
BEGIN:VTIMEZONE
TZID:Europe/Berlin
X-LIC-LOCATION:Europe/Berlin
BEGIN:DAYLIGHT
DTSTART:20250330T030000
TZNAME:CEST
TZOFFSETFROM:+0100
TZOFFSETTO:+0200
END:DAYLIGHT
END:VTIMEZONE
END:VCALENDAR
