BEGIN:VCALENDAR
VERSION:2.0
PRODID:-//Plone.org//NONSGML plone.app.event//EN
X-WR-TIMEZONE:Europe/Berlin
BEGIN:VEVENT
SUMMARY:tanz ist Festival: Xenia Koghilaki (GR) – KOPANIMA
DTSTART;TZID=Europe/Berlin:20250614T203000
DTSTAMP:20260421T103103Z
UID:898ffedc3d58464886029551346da6a4@zmi.spielboden.at
CREATED:20250212T114406Z
DESCRIPTION:Zwischen Verletzlichkeit und Wiederstand…
LAST-MODIFIED:20250614T165134Z
URL:https://zmi.spielboden.at/Plone/veranstaltungen/2025/06_juni/tanz-ist-
 festival-xenia-koghilaki-gr-kopanima
END:VEVENT
BEGIN:VTIMEZONE
TZID:Europe/Berlin
X-LIC-LOCATION:Europe/Berlin
BEGIN:DAYLIGHT
DTSTART:20250330T030000
TZNAME:CEST
TZOFFSETFROM:+0100
TZOFFSETTO:+0200
END:DAYLIGHT
END:VTIMEZONE
END:VCALENDAR
