BEGIN:VCALENDAR
VERSION:2.0
PRODID:-//Plone.org//NONSGML plone.app.event//EN
X-WR-TIMEZONE:Europe/Berlin
BEGIN:VEVENT
SUMMARY:tanz ist Festival: Nijinsky
DTSTART;TZID=Europe/Berlin:20250617T193000
DTSTAMP:20260421T120926Z
UID:c065f1845d8c4fdc88bebe85e243f3a7@zmi.spielboden.at
CREATED:20250227T082752Z
LAST-MODIFIED:20250617T095529Z
URL:https://zmi.spielboden.at/Plone/veranstaltungen/2025/06_juni/tanz-ist-
 festival-nijinsky
END:VEVENT
BEGIN:VTIMEZONE
TZID:Europe/Berlin
X-LIC-LOCATION:Europe/Berlin
BEGIN:DAYLIGHT
DTSTART:20250330T030000
TZNAME:CEST
TZOFFSETFROM:+0100
TZOFFSETTO:+0200
END:DAYLIGHT
END:VTIMEZONE
END:VCALENDAR
