BEGIN:VCALENDAR
VERSION:2.0
PRODID:-//Plone.org//NONSGML plone.app.event//EN
X-WR-TIMEZONE:Europe/Berlin
BEGIN:VEVENT
SUMMARY:tanz ist Festival: Navaridas / Deutinger / Riegler (AT) – MOTORA
  (Doppelabend)
DTSTART;TZID=Europe/Berlin:20250621T211500
DTSTAMP:20260421T121038Z
UID:d6a725e3b7b84fc1ab36c37bf827d116@zmi.spielboden.at
CREATED:20250212T123531Z
DESCRIPTION:Die mit dem Auto tanzt…
LAST-MODIFIED:20250620T110437Z
URL:https://zmi.spielboden.at/Plone/veranstaltungen/2025/06_juni/tanz-ist-
 festival-navaridas-deutinger-riegler-at-motora-doppelabend
END:VEVENT
BEGIN:VTIMEZONE
TZID:Europe/Berlin
X-LIC-LOCATION:Europe/Berlin
BEGIN:DAYLIGHT
DTSTART:20250330T030000
TZNAME:CEST
TZOFFSETFROM:+0100
TZOFFSETTO:+0200
END:DAYLIGHT
END:VTIMEZONE
END:VCALENDAR
