BEGIN:VCALENDAR
VERSION:2.0
PRODID:-//Plone.org//NONSGML plone.app.event//EN
X-WR-TIMEZONE:Europe/Berlin
BEGIN:VEVENT
SUMMARY:tanz ist Festival: Mosh Pit – Zwischen Verletzlichkeit und Wider
 stand
DTSTART;TZID=Europe/Berlin:20250613T193000
DTEND;TZID=Europe/Berlin:20250621T220000
DTSTAMP:20260421T121041Z
UID:819a4f412da54f30856a35c8b9dad581@zmi.spielboden.at
CREATED:20250227T084805Z
LAST-MODIFIED:20250521T074957Z
URL:https://zmi.spielboden.at/Plone/veranstaltungen/2025/06_juni/tanz-ist-
 festival-mosh-pit-zwischen-verletzlichkeit-und-widerstand
END:VEVENT
BEGIN:VTIMEZONE
TZID:Europe/Berlin
X-LIC-LOCATION:Europe/Berlin
BEGIN:DAYLIGHT
DTSTART:20250330T030000
TZNAME:CEST
TZOFFSETFROM:+0100
TZOFFSETTO:+0200
END:DAYLIGHT
END:VTIMEZONE
END:VCALENDAR
