BEGIN:VCALENDAR
VERSION:2.0
PRODID:-//Plone.org//NONSGML plone.app.event//EN
X-WR-TIMEZONE:Europe/Berlin
BEGIN:VEVENT
SUMMARY:tanz ist Festival: Matteo Haitzmann (AT) – Make it Count (Doppel
 abend)
DTSTART;TZID=Europe/Berlin:20250621T200000
DTSTAMP:20260421T120924Z
UID:aea707e0ee194479b7da87f67b748dd3@zmi.spielboden.at
CREATED:20250212T122506Z
DESCRIPTION:Ein einzigartiges akustisches und visuelles Erlebnis…
LAST-MODIFIED:20250621T162458Z
URL:https://zmi.spielboden.at/Plone/veranstaltungen/2025/06_juni/tanz-ist-
 festival-matteo-haitzman-at-make-it-count-doppelabend
END:VEVENT
BEGIN:VTIMEZONE
TZID:Europe/Berlin
X-LIC-LOCATION:Europe/Berlin
BEGIN:DAYLIGHT
DTSTART:20250330T030000
TZNAME:CEST
TZOFFSETFROM:+0100
TZOFFSETTO:+0200
END:DAYLIGHT
END:VTIMEZONE
END:VCALENDAR
