BEGIN:VCALENDAR
VERSION:2.0
PRODID:-//Plone.org//NONSGML plone.app.event//EN
X-WR-TIMEZONE:Europe/Berlin
BEGIN:VEVENT
SUMMARY:tanz ist Festival: Cie. 7273 (CH/FR) – Fall in
DTSTART;TZID=Europe/Berlin:20250618T203000
DTSTAMP:20260421T104433Z
UID:8b7e2ef70f914cf09e1a6b7a40ff4745@zmi.spielboden.at
CREATED:20250212T120043Z
DESCRIPTION:Burlesk\, verspielt mit einem Hauch von Zirkus…
LAST-MODIFIED:20250618T164907Z
URL:https://zmi.spielboden.at/Plone/veranstaltungen/2025/06_juni/tanz-ist-
 festival-cie-7273-ch-fr-fall-inn
END:VEVENT
BEGIN:VTIMEZONE
TZID:Europe/Berlin
X-LIC-LOCATION:Europe/Berlin
BEGIN:DAYLIGHT
DTSTART:20250330T030000
TZNAME:CEST
TZOFFSETFROM:+0100
TZOFFSETTO:+0200
END:DAYLIGHT
END:VTIMEZONE
END:VCALENDAR
