BEGIN:VCALENDAR
VERSION:2.0
PRODID:-//Plone.org//NONSGML plone.app.event//EN
X-WR-TIMEZONE:Europe/Berlin
BEGIN:VEVENT
SUMMARY:Pop & Wave Sommerparty
DTSTART;TZID=Europe/Berlin:20250628T210000
DTSTAMP:20260422T161718Z
UID:19c5c5b4701b4ad7bf16638b0c2b8056@zmi.spielboden.at
CREATED:20250603T112106Z
LAST-MODIFIED:20250603T112444Z
URL:https://zmi.spielboden.at/Plone/veranstaltungen/2025/06_juni/pop-wave-
 party
END:VEVENT
BEGIN:VTIMEZONE
TZID:Europe/Berlin
X-LIC-LOCATION:Europe/Berlin
BEGIN:DAYLIGHT
DTSTART:20250330T030000
TZNAME:CEST
TZOFFSETFROM:+0100
TZOFFSETTO:+0200
END:DAYLIGHT
END:VTIMEZONE
END:VCALENDAR
