BEGIN:VCALENDAR
VERSION:2.0
PRODID:-//Plone.org//NONSGML plone.app.event//EN
X-WR-TIMEZONE:Europe/Berlin
BEGIN:VEVENT
SUMMARY:Planet C: Wir werden alle sterben!
DTSTART;TZID=Europe/Berlin:20250605T190000
DTSTAMP:20260421T120510Z
UID:f757a806f00147e4a83471f31e124c0b@zmi.spielboden.at
CREATED:20250513T114107Z
LAST-MODIFIED:20250605T154403Z
URL:https://zmi.spielboden.at/Plone/veranstaltungen/2025/06_juni/planet-c-
 wir-werden-alle-sterben-1
END:VEVENT
BEGIN:VTIMEZONE
TZID:Europe/Berlin
X-LIC-LOCATION:Europe/Berlin
BEGIN:DAYLIGHT
DTSTART:20250330T030000
TZNAME:CEST
TZOFFSETFROM:+0100
TZOFFSETTO:+0200
END:DAYLIGHT
END:VTIMEZONE
END:VCALENDAR
