BEGIN:VCALENDAR
VERSION:2.0
PRODID:-//Plone.org//NONSGML plone.app.event//EN
X-WR-TIMEZONE:Europe/Berlin
BEGIN:VEVENT
SUMMARY:Planet C: DOOMSDAY PARTY - Party bis zum Weltuntergang
DTSTART;TZID=Europe/Berlin:20250605T203000
DTSTAMP:20260422T175603Z
UID:cac1ef259afb4a9e8096f6037a608c8b@zmi.spielboden.at
CREATED:20250515T135334Z
LAST-MODIFIED:20250515T135704Z
URL:https://zmi.spielboden.at/Plone/veranstaltungen/2025/06_juni/planet-c-
 doomsday-party-party-bis-zum-weltuntergang
END:VEVENT
BEGIN:VTIMEZONE
TZID:Europe/Berlin
X-LIC-LOCATION:Europe/Berlin
BEGIN:DAYLIGHT
DTSTART:20250330T030000
TZNAME:CEST
TZOFFSETFROM:+0100
TZOFFSETTO:+0200
END:DAYLIGHT
END:VTIMEZONE
END:VCALENDAR
