BEGIN:VCALENDAR
VERSION:2.0
PRODID:-//Plone.org//NONSGML plone.app.event//EN
X-WR-TIMEZONE:Europe/Berlin
BEGIN:VEVENT
SUMMARY:Organic Vibes Galore
DTSTART;TZID=Europe/Berlin:20250627T210000
DTSTAMP:20260422T145427Z
UID:47aedb3598524d5a82cd621cb5207832@zmi.spielboden.at
CREATED:20250605T111640Z
LAST-MODIFIED:20250605T121006Z
URL:https://zmi.spielboden.at/Plone/veranstaltungen/2025/06_juni/organic-v
 ibes-galore-1
END:VEVENT
BEGIN:VTIMEZONE
TZID:Europe/Berlin
X-LIC-LOCATION:Europe/Berlin
BEGIN:DAYLIGHT
DTSTART:20250330T030000
TZNAME:CEST
TZOFFSETFROM:+0100
TZOFFSETTO:+0200
END:DAYLIGHT
END:VTIMEZONE
END:VCALENDAR
