BEGIN:VCALENDAR
VERSION:2.0
PRODID:-//Plone.org//NONSGML plone.app.event//EN
X-WR-TIMEZONE:Europe/Berlin
BEGIN:VEVENT
SUMMARY:Henry Fonda for President
DTSTART;TZID=Europe/Berlin:20250624T193000
DTSTAMP:20260421T104353Z
UID:9cd8cd29f3b14f57a29bb5accc4fda0e@zmi.spielboden.at
CREATED:20250514T065229Z
LAST-MODIFIED:20250624T133458Z
URL:https://zmi.spielboden.at/Plone/veranstaltungen/2025/06_juni/henry-fon
 da-for-president-1
END:VEVENT
BEGIN:VTIMEZONE
TZID:Europe/Berlin
X-LIC-LOCATION:Europe/Berlin
BEGIN:DAYLIGHT
DTSTART:20250330T030000
TZNAME:CEST
TZOFFSETFROM:+0100
TZOFFSETTO:+0200
END:DAYLIGHT
END:VTIMEZONE
END:VCALENDAR
